BEGIN:VCALENDAR
VERSION:2.0
PRODID:-//eventon.com NONSGML v1.0//EN
CALSCALE:GREGORIAN
METHOD:PUBLISH
BEGIN:VEVENT
UID:69e694f2f14e6
DTSTAMP:20260420T210450Z
DTSTART:20260628T033000Z
DTEND:20260628T043000Z
LOCATION:
SUMMARY:Lay Bodhisattva Precepts Recitation
DESCRIPTION:Lay Bodhisattva Precepts Recitation\nhttps://chungtai.org.au/ev
 ents/lay-bodhisattva-precepts-recitation-5/
URL:https://chungtai.org.au/events/lay-bodhisattva-precepts-recitation-5/
END:VEVENT
END:VCALENDAR