BEGIN:VCALENDAR
VERSION:2.0
PRODID:-//eventon.com NONSGML v1.0//EN
CALSCALE:GREGORIAN
METHOD:PUBLISH
BEGIN:VEVENT
UID:69e6963657eda
DTSTAMP:20260420T211014Z
DTSTART:20260813T011500Z
DTEND:20260813T020000Z
LOCATION:
SUMMARY:Recite the Medicine Buddha Sutra & Grand Meal Offering before the Buddhas
DESCRIPTION:Recite the Medicine Buddha Sutra & Grand Meal Offering before t
 he Buddhas\nhttps://chungtai.org.au/events/grand-meal-offering-before-the-b
 uddhas-14/
URL:https://chungtai.org.au/events/grand-meal-offering-before-the-buddhas-14/
END:VEVENT
END:VCALENDAR