BEGIN:VCALENDAR
VERSION:2.0
PRODID:-//eventon.com NONSGML v1.0//EN
CALSCALE:GREGORIAN
METHOD:PUBLISH
BEGIN:VEVENT
UID:69e695c1ed444
DTSTAMP:20260420T210817Z
DTSTART:20260627T223000Z
DTEND:20260628T015000Z
LOCATION:
SUMMARY:Half-day Meditation Retreat
DESCRIPTION:Half-day Meditation Retreat\nhttps://chungtai.org.au/events/hal
 f-day-meditation-retreat-2/
URL:https://chungtai.org.au/events/half-day-meditation-retreat-2/
END:VEVENT
END:VCALENDAR