BEGIN:VCALENDAR
VERSION:2.0
PRODID:-//eventon.com NONSGML v1.0//EN
CALSCALE:GREGORIAN
METHOD:PUBLISH
BEGIN:VEVENT
UID:69e696471d88d
DTSTAMP:20260420T211031Z
DTSTART:20260523T233000Z
DTEND:20260524T033000Z
LOCATION:
SUMMARY:Buddha Bathing & Beginning of Sangha Summer Retreat Gratitude Medicine Buddha Ceremony
DESCRIPTION:Buddha Bathing & Beginning of Sangha Summer Retreat Gratitude M
 edicine Buddha Ceremony\nhttps://chungtai.org.au/events/buddha-bathing-begi
 nning-of-sangha-summer-retreat-gratitude-medicine-buddha-ceremony/
URL:https://chungtai.org.au/events/buddha-bathing-beginning-of-sangha-summer-retreat-gratitude-medicine-buddha-ceremony/
END:VEVENT
END:VCALENDAR