BEGIN:VCALENDAR
VERSION:2.0
PRODID:-//eventon.com NONSGML v1.0//EN
CALSCALE:GREGORIAN
METHOD:PUBLISH
BEGIN:VEVENT
UID:69e6943e2f365
DTSTAMP:20260420T210150Z
DTSTART:20260725T233000Z
DTEND:20260726T063000Z
LOCATION:
SUMMARY:Medicine Buddha Repentance Service & Completion of Gratitude Medicine Buddha Ceremony
DESCRIPTION:Medicine Buddha Repentance Service & Completion of Gratitude Me
 dicine Buddha Ceremony\nhttps://chungtai.org.au/events/completion-of-liang-
 huang-jeweled-repentance-gratitude-medicine-buddha-ceremony/
URL:https://chungtai.org.au/events/completion-of-liang-huang-jeweled-repentance-gratitude-medicine-buddha-ceremony/
END:VEVENT
END:VCALENDAR