BEGIN:VCALENDAR
VERSION:2.0
PRODID:-//eventon.com NONSGML v1.0//EN
CALSCALE:GREGORIAN
METHOD:PUBLISH
BEGIN:VEVENT
UID:69e695d81c716
DTSTAMP:20260420T210840Z
DTSTART:20260517T000000Z
DTEND:20260517T013000Z
LOCATION:
SUMMARY:Diamond Sutra Chanting Service
DESCRIPTION:Diamond Sutra Chanting Service\nhttps://chungtai.org.au/events/
 diamond-sutra-chanting-service-9/
URL:https://chungtai.org.au/events/diamond-sutra-chanting-service-9/
END:VEVENT
END:VCALENDAR